BEGIN:VCALENDAR
VERSION:2.0
PRODID:-//ChamberMaster//Event Calendar 2.0//EN
METHOD:PUBLISH
X-PUBLISHED-TTL:P3D
REFRESH-INTERVAL:P3D
CALSCALE:GREGORIAN
BEGIN:VEVENT
DTSTART:20240717T003000Z
DTEND:20240717T013000Z
X-MICROSOFT-CDO-ALLDAYEVENT:FALSE
SUMMARY:Trashy Tuesday
DESCRIPTION:Trashy Tuesday at Safeway\n\n\n\nJoin us for our monthly summer litter clean-up events to help keep our rivers and streams healthy & clean.\n\n\n\nTrashy Tuesday is a monthly litter clean-up program hosted in the summer by the City of Keizer's Environmental & Technical Team. Our goal is to build strong connections with our community while doing something good to protect our environment. We believe that small actions can have large impacts when amplified across our community\, so join us to help keep our rivers and streams free from litter.\n\n\n\nTrashy Tuesdays will be hosted from 5:30-6:30pm on the 3rd Tuesday of every month from June-September. Locations will vary and will be shared with participants one week prior to the event.\n\n\n\nWe will provide trash bags\, pickers\, gloves and vests. Volunteers should wear close-toed shoes\, weather appropriate clothing\, please bring water as well.\n\nFor more information and to sign-up visit https://www.keizer.org/TrashyTuesday
X-ALT-DESC;FMTTYPE=text/html:<span style="font-size:18px\;"><strong>Trashy Tuesday at Safeway</strong></span><br />\n<br />\nJoin us for our monthly summer litter clean-up events to help keep our rivers and streams healthy &amp\; clean.<br />\n<br />\nTrashy Tuesday is a monthly litter clean-up program hosted in the summer by the City of Keizer&#39\;s Environmental &amp\; Technical Team. Our goal is to build strong connections with our community while doing something good to protect our environment. We believe that small actions can have large impacts when amplified across our community\, so join us to help keep our rivers and streams free from litter.<br />\n<br />\nTrashy Tuesdays will be hosted from 5:30-6:30pm on the 3rd Tuesday of every month from June-September. Locations will vary and will be shared with participants one week prior to the event.<br />\n<br />\nWe will provide trash bags\, pickers\, gloves and vests. Volunteers should wear close-toed shoes\, weather appropriate clothing\, please bring water as well.<br />\nFor more information and to sign-up visit&nbsp\;<span style="font-family:calibri light\,sans-serif\;"><span style="font-size:14.0pt\;"><a href="https://www.keizer.org/TrashyTuesday">https://www.keizer.org/TrashyTuesday</a></span></span>
LOCATION:Safeway in Keizer Meet at the South end of the parking lot near the arborvitae
UID:e.63.28852
SEQUENCE:3
DTSTAMP:20260420T174203Z
URL:http://keizerchamber.chambermaster.com/events/details/trashy-tuesday-28852
END:VEVENT

END:VCALENDAR
