BEGIN:VCALENDAR
VERSION:2.0
PRODID:-//ChamberMaster//Event Calendar 2.0//EN
METHOD:PUBLISH
X-PUBLISHED-TTL:P3D
REFRESH-INTERVAL:P3D
CALSCALE:GREGORIAN
BEGIN:VEVENT
DTSTART:20250702T184500Z
DTEND:20250702T200000Z
X-MICROSOFT-CDO-ALLDAYEVENT:FALSE
SUMMARY:KNOW July Luncheon
DESCRIPTION:Please join us for the KNOW July Luncheon.\n\n\n\n Our speaker this month is Jen Self. Jen will be doing an interactive presentation about mastering your poses like a pro.\n\n\n\nJen is here to share her expert tips on how to pose confidently for photos - whether you're on your own or in a group. She'll guide us through simple techniques to highlight our best features\, work with the camera\, and capture natural\, flattering shots every time. Get ready to learn some fun and practical advice that will help you look and feel your best in every photo.\n\n\n\nCome network and enjoy a delicious lunch with the wonderful women from our community!
X-ALT-DESC;FMTTYPE=text/html:<span style="font-size:24px\;"><strong>Please join us for the KNOW July Luncheon.</strong></span><br />\n<br />\n<span style="font-size:20px\;">&nbsp\;Our speaker this month is Jen Self. Jen will be doing an interactive presentation about mastering your poses like a pro.<br />\n<br />\nJen is here to share her expert tips on how to pose confidently for photos - whether you&#39\;re on your own or in a group. She&#39\;ll guide us through simple techniques to highlight our best features\, work with the camera\, and capture natural\, flattering shots every time. Get ready to learn some fun and practical advice that will help you look and feel your best in every photo.<br />\n<br />\nCome network and enjoy a delicious lunch with the wonderful women from our community!</span>
LOCATION:The View at McNary Golf Course 165 McNary Estates Dr NE Keizer\, OR 97303
UID:e.63.29700
SEQUENCE:3
DTSTAMP:20260420T075631Z
URL:http://keizerchamber.chambermaster.com/events/details/know-july-luncheon-29700
END:VEVENT

END:VCALENDAR
