BEGIN:VCALENDAR
VERSION:2.0
PRODID:-//ChamberMaster//Event Calendar 2.0//EN
METHOD:PUBLISH
X-PUBLISHED-TTL:P3D
REFRESH-INTERVAL:P3D
CALSCALE:GREGORIAN
BEGIN:VEVENT
DTSTART:20250925T233000Z
DTEND:20250926T003000Z
X-MICROSOFT-CDO-ALLDAYEVENT:FALSE
SUMMARY:Chamber 101
DESCRIPTION:Chamber 101   Maximize Your Membership\n\n  Keizer Chamber of Commerce\n\n  Thursday\, September 25\, 2025\n\n  Two Sessions: 7:30 8:30 AM or 4:30 5:30 PM\n\nAre you making the most of your Keizer Chamber of Commerce membership? Whether you're brand new to the Chamber or have been a member for years\, Chamber 101 is your go-to session for discovering everything your membership has to offer.\n\nDuring this interactive and informative event\, you'll:\n\n\n	\n	  Get a comprehensive overview of the benefits\, programs\, and resources available to members.\n	\n	\n	  Learn about exclusive offers and current promotions that can help your business save money or gain visibility.\n	\n	\n	  Ask questions directly to Chamber staff and seasoned members to better understand how to leverage your membership.\n	\n	\n	  Network with other local professionals and start building valuable connections within the community.\n	\n\n\nWe're offering two convenient times morning or afternoon so you can choose the session that fits your schedule. Whether you're looking to expand your network\, promote your business\, or get involved in local events\, Chamber 101 will give you the tools and insights you need to succeed.\n\nDon't miss this opportunity to fully unlock your Chamber membership's potential and set your business up for growth!
X-ALT-DESC;FMTTYPE=text/html:<p data-end="260" data-start="91"><span style="font-size:16px\;"><strong data-end="133" data-start="91">Chamber 101 &ndash\; Maximize Your Membership</strong><br data-end="136" data-start="133" />\n&#128205\; <em data-end="167" data-start="139">Keizer Chamber of Commerce</em><br data-end="170" data-start="167" />\n&#128197\; <strong data-end="205" data-start="173">Thursday\, September 25\, 2025</strong><br data-end="208" data-start="205" />\n&#9200\; <strong data-end="227" data-start="210">Two Sessions:</strong> 7:30&ndash\;8:30 AM <em data-end="245" data-start="241">or</em> 4:30&ndash\;5:30 PM</span></p>\n\n<p data-end="502" data-start="262"><span style="font-size:14px\;">Are you making the most of your Keizer Chamber of Commerce membership? Whether you&rsquo\;re brand new to the Chamber or have been a member for years\, <strong data-end="421" data-start="406">Chamber 101</strong> is your go-to session for discovering everything your membership has to offer.</span></p>\n\n<p data-end="560" data-start="504"><span style="font-size:14px\;">During this interactive and informative event\, you&rsquo\;ll:</span></p>\n\n<ul data-end="1022" data-start="561">\n	<li data-end="662" data-start="561">\n	<p data-end="662" data-start="563"><span style="font-size:14px\;">&#9989\; <strong data-end="597" data-start="565">Get a comprehensive overview</strong> of the benefits\, programs\, and resources available to members.</span></p>\n	</li>\n	<li data-end="784" data-start="663">\n	<p data-end="784" data-start="665"><span style="font-size:14px\;">&#128717\; <strong data-end="723" data-start="668">Learn about exclusive offers and current promotions</strong> that can help your business save money or gain visibility.</span></p>\n	</li>\n	<li data-end="910" data-start="785">\n	<p data-end="910" data-start="787"><span style="font-size:14px\;">&#128172\; <strong data-end="816" data-start="790">Ask questions directly</strong> to Chamber staff and seasoned members to better understand how to leverage your membership.</span></p>\n	</li>\n	<li data-end="1022" data-start="911">\n	<p data-end="1022" data-start="913"><span style="font-size:14px\;">&#129309\; <strong data-end="958" data-start="916">Network with other local professionals</strong> and start building valuable connections within the community.</span></p>\n	</li>\n</ul>\n\n<p data-end="1314" data-start="1024"><span style="font-size:14px\;">We&rsquo\;re offering <strong data-end="1063" data-start="1039">two convenient times</strong>&mdash\;morning or afternoon&mdash\;so you can choose the session that fits your schedule. Whether you&rsquo\;re looking to expand your network\, promote your business\, or get involved in local events\, Chamber 101 will give you the tools and insights you need to succeed.</span></p>\n\n<p data-end="1434" data-start="1316"><span style="font-size:14px\;">Don&rsquo\;t miss this opportunity to fully unlock your Chamber membership&rsquo\;s potential and set your business up for growth!</span></p>\n
LOCATION:Keizer Chamber of Commerce office 4118 River Rd N Keizer\, OR 97303
UID:e.63.30626
SEQUENCE:3
DTSTAMP:20260419T185334Z
URL:http://keizerchamber.chambermaster.com/events/details/chamber-101-30626
END:VEVENT

END:VCALENDAR
