BEGIN:VCALENDAR
VERSION:2.0
PRODID:-//ChamberMaster//Event Calendar 2.0//EN
METHOD:PUBLISH
X-PUBLISHED-TTL:P3D
REFRESH-INTERVAL:P3D
CALSCALE:GREGORIAN
BEGIN:VEVENT
DTSTART:20251028T160000Z
DTEND:20251028T210000Z
X-MICROSOFT-CDO-ALLDAYEVENT:FALSE
SUMMARY:Blood Drive
DESCRIPTION:Donate Blood and Give the gift of LIFE! Tuesday\, October 28th after Greeters at Willamette Valley Bank in Keizer. Sign up ahead of time or stop by the day of.
X-ALT-DESC;FMTTYPE=text/html:Donate Blood and Give the gift of LIFE! Tuesday\, October 28th after Greeters at Willamette Valley Bank in Keizer. Sign up ahead of time or stop by the day of.
LOCATION:5140 River Road N\, Keizer
UID:e.63.31398
SEQUENCE:3
DTSTAMP:20260422T154506Z
URL:http://keizerchamber.chambermaster.com/events/details/blood-drive-31398
END:VEVENT

END:VCALENDAR
